BEGIN:VCALENDAR
VERSION:2.0
PRODID:-//Up With America - ECPv6.1.3//NONSGML v1.0//EN
CALSCALE:GREGORIAN
METHOD:PUBLISH
X-ORIGINAL-URL:https://upwithamerica.org
X-WR-CALDESC:Events for Up With America
REFRESH-INTERVAL;VALUE=DURATION:PT1H
X-Robots-Tag:noindex
X-PUBLISHED-TTL:PT1H
BEGIN:VTIMEZONE
TZID:UTC
BEGIN:STANDARD
TZOFFSETFROM:+0000
TZOFFSETTO:+0000
TZNAME:UTC
DTSTART:20210101T000000
END:STANDARD
END:VTIMEZONE
BEGIN:VEVENT
DTSTART;TZID=UTC:20210925T090000
DTEND;TZID=UTC:20210925T090000
DTSTAMP:20260426T013825
CREATED:20210828T141522Z
LAST-MODIFIED:20210828T141540Z
UID:2170-1632560400-1632560400@upwithamerica.org
SUMMARY:UpWithAmerica Radio LIVE
DESCRIPTION:Listen to our dynamic weekly radio show every Saturday!
URL:https://upwithamerica.org/event/upwithamerica-radio-live-5/
LOCATION:Talk 94.5 FM
CATEGORIES:Radio Show
END:VEVENT
END:VCALENDAR