BEGIN:VCALENDAR
VERSION:2.0
PRODID:-//Up With America - ECPv6.1.3//NONSGML v1.0//EN
CALSCALE:GREGORIAN
METHOD:PUBLISH
X-WR-CALNAME:Up With America
X-ORIGINAL-URL:https://upwithamerica.org
X-WR-CALDESC:Events for Up With America
REFRESH-INTERVAL;VALUE=DURATION:PT1H
X-Robots-Tag:noindex
X-PUBLISHED-TTL:PT1H
BEGIN:VTIMEZONE
TZID:UTC
BEGIN:STANDARD
TZOFFSETFROM:+0000
TZOFFSETTO:+0000
TZNAME:UTC
DTSTART:20210101T000000
END:STANDARD
END:VTIMEZONE
BEGIN:VEVENT
DTSTART;TZID=UTC:20210918T090000
DTEND;TZID=UTC:20210918T090000
DTSTAMP:20260425T121716
CREATED:20210828T141438Z
LAST-MODIFIED:20210828T141448Z
UID:2168-1631955600-1631955600@upwithamerica.org
SUMMARY:UpWithAmerica Radio LIVE
DESCRIPTION:Listen to our dynamic weekly radio show every Saturday!
URL:https://upwithamerica.org/event/upwithamerica-radio-live-4/
LOCATION:Talk 94.5 FM
CATEGORIES:Radio Show
END:VEVENT
BEGIN:VEVENT
DTSTART;TZID=UTC:20210911T090000
DTEND;TZID=UTC:20210911T090000
DTSTAMP:20260425T121716
CREATED:20210828T141400Z
LAST-MODIFIED:20210828T141412Z
UID:2166-1631350800-1631350800@upwithamerica.org
SUMMARY:UpWithAmerica Radio LIVE
DESCRIPTION:Listen to our dynamic weekly radio show every Saturday!
URL:https://upwithamerica.org/event/upwithamerica-radio-live-3/
LOCATION:Talk 94.5 FM
CATEGORIES:Radio Show
END:VEVENT
BEGIN:VEVENT
DTSTART;TZID=UTC:20210904T090000
DTEND;TZID=UTC:20210904T090000
DTSTAMP:20260425T121716
CREATED:20210828T141316Z
LAST-MODIFIED:20210828T141316Z
UID:2164-1630746000-1630746000@upwithamerica.org
SUMMARY:UpWithAmerica Radio LIVE
DESCRIPTION:Listen to our dynamic weekly radio show every Saturday!
URL:https://upwithamerica.org/event/upwithamerica-radio-live-2-2/
LOCATION:Talk 94.5 FM
CATEGORIES:Radio Show
END:VEVENT
BEGIN:VEVENT
DTSTART;TZID=UTC:20210828T090000
DTEND;TZID=UTC:20210828T090000
DTSTAMP:20260425T121716
CREATED:20200912T105133Z
LAST-MODIFIED:20210828T140732Z
UID:1767-1630141200-1630141200@upwithamerica.org
SUMMARY:UpWithAmerica Radio LIVE
DESCRIPTION:Listen to our dynamic weekly radio show every Saturday!
URL:https://upwithamerica.org/event/upwithamerica-radio-live-2/
LOCATION:Talk 94.5 FM
CATEGORIES:Radio Show
END:VEVENT
END:VCALENDAR